BEGIN:VCALENDAR
VERSION:2.0
PRODID:-//Talenta Elit - ECPv6.15.18//NONSGML v1.0//EN
CALSCALE:GREGORIAN
METHOD:PUBLISH
X-WR-CALNAME:Talenta Elit
X-ORIGINAL-URL:https://talentaelit.com
X-WR-CALDESC:Events for Talenta Elit
REFRESH-INTERVAL;VALUE=DURATION:PT1H
X-Robots-Tag:noindex
X-PUBLISHED-TTL:PT1H
BEGIN:VTIMEZONE
TZID:Asia/Jakarta
BEGIN:STANDARD
TZOFFSETFROM:+0700
TZOFFSETTO:+0700
TZNAME:WIB
DTSTART:20250101T000000
END:STANDARD
END:VTIMEZONE
BEGIN:VEVENT
DTSTART;TZID=Asia/Jakarta:20260329T080000
DTEND;TZID=Asia/Jakarta:20260329T170000
DTSTAMP:20260420T071635
CREATED:20260221T070019Z
LAST-MODIFIED:20260221T070019Z
UID:1054-1774771200-1774803600@talentaelit.com
SUMMARY:Personal Branding untuk Profesional Muda
DESCRIPTION:📝 Deskripsi Lengkap:\nDi era digital\, personal branding bukan lagi pilihan — tetapi kebutuhan. \nWebinar ini dirancang untuk membantu profesional muda memahami bagaimana membangun citra diri yang kuat\, kredibel\, dan relevan di dunia kerja modern. \nDalam sesi ini\, Anda akan belajar: \n\n✅ Apa itu personal branding dan mengapa penting✅ Cara membangun profil LinkedIn yang menarik✅ Strategi meningkatkan kredibilitas profesional✅ Kesalahan umum dalam membangun personal branding✅ Tips agar dikenal sebagai expert di bidang Anda \n🎤 Pembicara:Rizky Pratama\, S.Psi.\, CHRP(HR Consultant & Career Coach)
URL:https://talentaelit.com/event/personal-branding-untuk-profesional-muda/
LOCATION:Talent Elite\, United States
ATTACH;FMTTYPE=image/jpeg:https://talentaelit.com/wp-content/uploads/2026/02/ilustrasi-tentang-Strategi-Personal-Branding-untuk-PRofesional-Muda-800x448-3580448218.jpeg
END:VEVENT
END:VCALENDAR